BEGIN:VCALENDAR
VERSION:2.0
PRODID:spatie/icalendar-generator
DESCRIPTION:Évènements de 
X-WR-CALDESC:Évènements de 
REFRESH-INTERVAL;VALUE=DURATION:PT1440M
X-PUBLISHED-TTL:PT1440M
BEGIN:VTIMEZONE
TZID:Etc/GMT+0
BEGIN:STANDARD
DTSTART:20250722T160000Z
TZOFFSETFROM:+0000
TZOFFSETTO:+0000
END:STANDARD
END:VTIMEZONE
BEGIN:VTIMEZONE
TZID:UTC
BEGIN:STANDARD
DTSTART:20250725T100857Z
TZOFFSETFROM:+0000
TZOFFSETTO:+0000
END:STANDARD
END:VTIMEZONE
BEGIN:VEVENT
UID:102-72
DTSTAMP:20260421T100857Z
SUMMARY:L'ABC de la foi
LOCATION:
ORGANIZER;CN=admin:MAILTO:jmrouge@laposte.net
DTSTART;TZID=Etc/GMT+0:20260418T160000
DTEND;TZID=Etc/GMT+0:20260418T170000
X-ALT-DESC;FMTTYPE=TEXT/HTML:
CATEGORIES:Formations
URL;VALUE=URI:https://sanctuaire-nd-valcluse.org/mc-events/labc-de-la-foi-1
 0/
METHOD:PUBLISH
END:VEVENT
END:VCALENDAR