BEGIN:VCALENDAR
VERSION:2.0
PRODID:spatie/icalendar-generator
DESCRIPTION:Évènements de 
X-WR-CALDESC:Évènements de 
REFRESH-INTERVAL;VALUE=DURATION:PT1440M
X-PUBLISHED-TTL:PT1440M
BEGIN:VTIMEZONE
TZID:Etc/GMT+0
BEGIN:STANDARD
DTSTART:20250809T200000Z
TZOFFSETFROM:+0000
TZOFFSETTO:+0000
END:STANDARD
END:VTIMEZONE
BEGIN:VTIMEZONE
TZID:UTC
BEGIN:STANDARD
DTSTART:20250729T153919Z
TZOFFSETFROM:+0000
TZOFFSETTO:+0000
END:STANDARD
END:VTIMEZONE
BEGIN:VEVENT
UID:121-91
DTSTAMP:20260425T153919Z
SUMMARY:1 heure pour Dieu
LOCATION:
ORGANIZER;CN=admin:MAILTO:jmrouge@laposte.net
DTSTART;TZID=Etc/GMT+0:20260506T200000
DTEND;TZID=Etc/GMT+0:20260506T210000
X-ALT-DESC;FMTTYPE=TEXT/HTML:
CATEGORIES:Formations
URL;VALUE=URI:https://sanctuaire-nd-valcluse.org/mc-events/1-heure-pour-die
 u-11/
METHOD:PUBLISH
END:VEVENT
END:VCALENDAR